BEGIN:VCALENDAR
VERSION:2.0
PRODID:-//arlegalaid.org//NONSGML kigkonsult.se iCalcreator 2.30.10//
CALSCALE:GREGORIAN
METHOD:PUBLISH
UID:0f6e4ba0-80a4-4f40-916e-fc90713ab41b
X-WR-CALDESC:
X-WR-RELCALID:3f7217f7a3e745dbf5ee91e7ca367d92
X-WR-TIMEZONE:America/Chicago
BEGIN:VTIMEZONE
TZID:America/Chicago
BEGIN:STANDARD
TZNAME:CST
DTSTART:20231105T020000
TZOFFSETFROM:-0500
TZOFFSETTO:-0600
RDATE:20241103T020000
RDATE:20251102T020000
END:STANDARD
BEGIN:DAYLIGHT
TZNAME:CDT
DTSTART:20240310T020000
TZOFFSETFROM:-0600
TZOFFSETTO:-0500
RDATE:20250309T020000
RDATE:20260308T020000
END:DAYLIGHT
END:VTIMEZONE
BEGIN:VEVENT
UID:40f488b1-75ad-442a-98f3-94e80daca806
DTSTAMP:20260422T072239Z
DESCRIPTION:
DTSTART;TZID=America/Chicago:20241101T090000
DTEND;TZID=America/Chicago:20241101T120000
LOCATION:Arisa Health \, 209 S Lockard \, Blytheville\, AR 72315 US
SUMMARY:Legal Aid Office Hours in Blytheville
END:VEVENT
END:VCALENDAR
