BEGIN:VCALENDAR
VERSION:2.0
PRODID:-//arlegalaid.org//NONSGML kigkonsult.se iCalcreator 2.30.10//
CALSCALE:GREGORIAN
METHOD:PUBLISH
UID:8b42ff2a-d34e-4e23-9da9-2b22476a9915
X-WR-CALDESC:
X-WR-RELCALID:0fac641995809e1d3842332c809d72bc
X-WR-TIMEZONE:America/Chicago
BEGIN:VTIMEZONE
TZID:America/Chicago
BEGIN:STANDARD
TZNAME:CST
DTSTART:20241103T020000
TZOFFSETFROM:-0500
TZOFFSETTO:-0600
RDATE:20251102T020000
END:STANDARD
BEGIN:DAYLIGHT
TZNAME:CDT
DTSTART:20240310T020000
TZOFFSETFROM:-0600
TZOFFSETTO:-0500
RDATE:20250309T020000
RDATE:20260308T020000
END:DAYLIGHT
END:VTIMEZONE
BEGIN:VEVENT
UID:3d060952-f435-4d7a-9309-df8156419b1b
DTSTAMP:20260422T070536Z
DESCRIPTION:
DTSTART;TZID=America/Chicago:20241108T090000
DTEND;TZID=America/Chicago:20241108T120000
LOCATION:1832 S. School Ave. Fayetteville\, AR 72701
SUMMARY:Help Desk: 7hills Homeless Shelter
END:VEVENT
END:VCALENDAR
