BEGIN:VCALENDAR
VERSION:2.0
PRODID:-//arlegalaid.org//NONSGML kigkonsult.se iCalcreator 2.30.10//
CALSCALE:GREGORIAN
METHOD:PUBLISH
UID:822aaa70-afcf-4ff3-aaa1-28f410c79e40
X-WR-CALDESC:
X-WR-RELCALID:58e3c5376623ce7f11724dce0ca7f891
X-WR-TIMEZONE:America/Chicago
BEGIN:VTIMEZONE
TZID:America/Chicago
BEGIN:STANDARD
TZNAME:CST
DTSTART:20241103T020000
TZOFFSETFROM:-0500
TZOFFSETTO:-0600
RDATE:20251102T020000
END:STANDARD
BEGIN:DAYLIGHT
TZNAME:CDT
DTSTART:20240310T020000
TZOFFSETFROM:-0600
TZOFFSETTO:-0500
RDATE:20250309T020000
RDATE:20260308T020000
END:DAYLIGHT
END:VTIMEZONE
BEGIN:VEVENT
UID:13b7510e-dbae-42f7-a9d3-7ad6824b664d
DTSTAMP:20260422T072239Z
DESCRIPTION:
DTSTART;TZID=America/Chicago:20241113T130000
DTEND;TZID=America/Chicago:20241113T170000
LOCATION:2825 S. Division St \, Blytheville\, AR 72315 US
SUMMARY:Record Sealing Clinic in Blytheville
END:VEVENT
END:VCALENDAR
