BEGIN:VCALENDAR
VERSION:2.0
PRODID:-//arlegalaid.org//NONSGML kigkonsult.se iCalcreator 2.30.10//
CALSCALE:GREGORIAN
METHOD:PUBLISH
UID:e7b32600-92ee-453f-bf2f-63c1c55eabcf
X-WR-CALDESC:
X-WR-RELCALID:72e2a1869aad7edea60c20fc32b00040
X-WR-TIMEZONE:America/Chicago
BEGIN:VTIMEZONE
TZID:America/Chicago
BEGIN:STANDARD
TZNAME:CST
DTSTART:20241103T020000
TZOFFSETFROM:-0500
TZOFFSETTO:-0600
RDATE:20251102T020000
END:STANDARD
BEGIN:DAYLIGHT
TZNAME:CDT
DTSTART:20240310T020000
TZOFFSETFROM:-0600
TZOFFSETTO:-0500
RDATE:20250309T020000
RDATE:20260308T020000
END:DAYLIGHT
END:VTIMEZONE
BEGIN:VEVENT
UID:24800aba-dffe-4149-b404-e5bb9afac451
DTSTAMP:20260422T071622Z
DESCRIPTION:
DTSTART;TZID=America/Chicago:20241118T130000
DTEND;TZID=America/Chicago:20241118T160000
LOCATION:Arisa Health \, 209 S Lockard \, Blytheville\, AR 72315 US
SUMMARY:Legal Aid Office Hours in Blytheville
END:VEVENT
END:VCALENDAR
