BEGIN:VCALENDAR
VERSION:2.0
PRODID:-//arlegalaid.org//NONSGML kigkonsult.se iCalcreator 2.30.10//
CALSCALE:GREGORIAN
METHOD:PUBLISH
UID:d6a38812-af6d-407b-84b2-9f4ef0e37ada
X-WR-CALDESC:interested folks that walk-ins are welcome subject to availabi
 lity\, but appointments are encouraged\, contact the library for an appoin
 tment by calling (870) 633-5646.\n
X-WR-RELCALID:756da3668bfa91fb0ca932befc419166
X-WR-TIMEZONE:America/Chicago
BEGIN:VTIMEZONE
TZID:America/Chicago
BEGIN:STANDARD
TZNAME:CST
DTSTART:20241103T020000
TZOFFSETFROM:-0500
TZOFFSETTO:-0600
RDATE:20251102T020000
END:STANDARD
BEGIN:DAYLIGHT
TZNAME:CDT
DTSTART:20240310T020000
TZOFFSETFROM:-0600
TZOFFSETTO:-0500
RDATE:20250309T020000
RDATE:20260308T020000
END:DAYLIGHT
END:VTIMEZONE
BEGIN:VEVENT
UID:51c635bb-170c-4456-83e8-5aafed0882d3
DTSTAMP:20260422T070124Z
DESCRIPTION:interested folks that walk-ins are welcome subject to availabil
 ity\, but appointments are encouraged\, contact the library for an appoint
 ment by calling (870) 633-5646.\n
DTSTART;TZID=America/Chicago:20241119T090000
DTEND;TZID=America/Chicago:20241119T120000
LOCATION:Forrest City Libray\,  421 S Washington St\, Forrest City \, AR 72
 335 US
SUMMARY:Forrest City Library Outreach
END:VEVENT
END:VCALENDAR
