BEGIN:VCALENDAR
VERSION:2.0
PRODID:-//arlegalaid.org//NONSGML kigkonsult.se iCalcreator 2.30.10//
CALSCALE:GREGORIAN
METHOD:PUBLISH
UID:00aeae63-e54a-4f4b-af3a-a8922dfec91b
X-WR-CALDESC:
X-WR-RELCALID:9a4ac9bcb39e11c792c0ae59ac87ad09
X-WR-TIMEZONE:America/Chicago
BEGIN:VTIMEZONE
TZID:America/Chicago
BEGIN:STANDARD
TZNAME:CST
DTSTART:20241103T020000
TZOFFSETFROM:-0500
TZOFFSETTO:-0600
RDATE:20251102T020000
END:STANDARD
BEGIN:DAYLIGHT
TZNAME:CDT
DTSTART:20240310T020000
TZOFFSETFROM:-0600
TZOFFSETTO:-0500
RDATE:20250309T020000
RDATE:20260308T020000
END:DAYLIGHT
END:VTIMEZONE
BEGIN:VEVENT
UID:adc286dc-77f8-4c31-a502-d919af5344c8
DTSTAMP:20260422T071950Z
DESCRIPTION:
DTSTART;TZID=America/Chicago:20241121T090000
DTEND;TZID=America/Chicago:20241121T150000
LOCATION:1100 North College Ave \, Building 3\, Auditorium\, Fayetteville\,
  AR 72703 US
SUMMARY:FREE Legal Services Veteran Clinic in Fayetteville
END:VEVENT
END:VCALENDAR
