BEGIN:VCALENDAR
VERSION:2.0
PRODID:-//arlegalaid.org//NONSGML kigkonsult.se iCalcreator 2.30.10//
CALSCALE:GREGORIAN
METHOD:PUBLISH
UID:795cd8d6-a7f1-411a-bc4c-fd230ca39646
X-WR-CALDESC:
X-WR-RELCALID:8b7591a73bc84c02e6ef4a4908e783b6
X-WR-TIMEZONE:America/Chicago
BEGIN:VTIMEZONE
TZID:America/Chicago
BEGIN:STANDARD
TZNAME:CST
DTSTART:20241103T020000
TZOFFSETFROM:-0500
TZOFFSETTO:-0600
RDATE:20251102T020000
END:STANDARD
BEGIN:DAYLIGHT
TZNAME:CDT
DTSTART:20240310T020000
TZOFFSETFROM:-0600
TZOFFSETTO:-0500
RDATE:20250309T020000
RDATE:20260308T020000
END:DAYLIGHT
END:VTIMEZONE
BEGIN:VEVENT
UID:835e2264-469f-4d91-8461-98a5162c3d8f
DTSTAMP:20260421T203935Z
DESCRIPTION:
DTSTART;TZID=America/Chicago:20241209T130000
DTEND;TZID=America/Chicago:20241209T160000
LOCATION:Arisa Health \, 209 S Lockard \, Blytheville\, AR 72315 US
SUMMARY:Legal Aid Office Hours in Blytheville
END:VEVENT
END:VCALENDAR
