BEGIN:VCALENDAR
VERSION:2.0
PRODID:-//arlegalaid.org//NONSGML kigkonsult.se iCalcreator 2.30.10//
CALSCALE:GREGORIAN
METHOD:PUBLISH
UID:8b32267f-d273-42fb-970e-f42a68dc7b24
X-WR-CALDESC:
X-WR-RELCALID:649f3bddd01b7c28206251238685d492
X-WR-TIMEZONE:America/Chicago
BEGIN:VTIMEZONE
TZID:America/Chicago
BEGIN:STANDARD
TZNAME:CST
DTSTART:20241103T020000
TZOFFSETFROM:-0500
TZOFFSETTO:-0600
RDATE:20251102T020000
END:STANDARD
BEGIN:DAYLIGHT
TZNAME:CDT
DTSTART:20240310T020000
TZOFFSETFROM:-0600
TZOFFSETTO:-0500
RDATE:20250309T020000
RDATE:20260308T020000
END:DAYLIGHT
END:VTIMEZONE
BEGIN:VEVENT
UID:26e82311-ddb9-435f-bcfc-587c4f46d480
DTSTAMP:20260421T204232Z
DESCRIPTION:
DTSTART;TZID=America/Chicago:20241216T050000
DTEND;TZID=America/Chicago:20241216T050001
LOCATION:1113 N Poplar \, Rogers \, AR 72756 US
SUMMARY:Record Sealing Clinic in Fayetteville
END:VEVENT
END:VCALENDAR
