BEGIN:VCALENDAR
VERSION:2.0
PRODID:-//arlegalaid.org//NONSGML kigkonsult.se iCalcreator 2.30.10//
CALSCALE:GREGORIAN
METHOD:PUBLISH
UID:7b975dd3-d2b1-4e1e-b168-f944184fe9d9
X-WR-CALDESC:
X-WR-RELCALID:5169def349a674bc5ce9648883c5dc43
X-WR-TIMEZONE:America/Chicago
BEGIN:VTIMEZONE
TZID:America/Chicago
BEGIN:STANDARD
TZNAME:CST
DTSTART:20241103T020000
TZOFFSETFROM:-0500
TZOFFSETTO:-0600
RDATE:20251102T020000
END:STANDARD
BEGIN:DAYLIGHT
TZNAME:CDT
DTSTART:20240310T020000
TZOFFSETFROM:-0600
TZOFFSETTO:-0500
RDATE:20250309T020000
RDATE:20260308T020000
END:DAYLIGHT
END:VTIMEZONE
BEGIN:VEVENT
UID:db1e38cf-c416-45c4-9bfe-6408bba9f4da
DTSTAMP:20260421T204117Z
DESCRIPTION:
DTSTART;TZID=America/Chicago:20241218T120000
DTEND;TZID=America/Chicago:20241218T123000
LOCATION:https://www.facebook.com/arlegalaid
SUMMARY:FB LIVE: What to Do if Someone Fraudulently Claims Your Dependent f
 or Taxes
END:VEVENT
END:VCALENDAR
