BEGIN:VCALENDAR
VERSION:2.0
PRODID:-//arlegalaid.org//NONSGML kigkonsult.se iCalcreator 2.30.10//
CALSCALE:GREGORIAN
METHOD:PUBLISH
UID:af6efaec-04bd-4564-af37-b742486481dd
X-WR-CALDESC:
X-WR-RELCALID:a61b160bb5bd1b6f2675342746d41300
X-WR-TIMEZONE:America/Chicago
BEGIN:VTIMEZONE
TZID:America/Chicago
BEGIN:STANDARD
TZNAME:CST
DTSTART:20241103T020000
TZOFFSETFROM:-0500
TZOFFSETTO:-0600
RDATE:20251102T020000
END:STANDARD
BEGIN:DAYLIGHT
TZNAME:CDT
DTSTART:20240310T020000
TZOFFSETFROM:-0600
TZOFFSETTO:-0500
RDATE:20250309T020000
RDATE:20260308T020000
END:DAYLIGHT
END:VTIMEZONE
BEGIN:VEVENT
UID:b98e8f88-11f8-4e61-82eb-ac60f7578b86
DTSTAMP:20260421T203942Z
DESCRIPTION:
DTSTART;TZID=America/Chicago:20241220T090000
DTEND;TZID=America/Chicago:20241220T120000
LOCATION:Arisa Health \, 209 S Lockard \, Blytheville\, AR 72315 US
SUMMARY:Legal Aid Office Hours in Blytheville
END:VEVENT
END:VCALENDAR
