BEGIN:VCALENDAR
VERSION:2.0
PRODID:-//arlegalaid.org//NONSGML kigkonsult.se iCalcreator 2.30.10//
CALSCALE:GREGORIAN
METHOD:PUBLISH
UID:3e3708ac-1e5b-4fb3-a1a5-e5c53532cf6b
X-WR-CALDESC:
X-WR-RELCALID:428c498c1a974b774d8e56f10b56a5af
X-WR-TIMEZONE:America/Chicago
BEGIN:VTIMEZONE
TZID:America/Chicago
BEGIN:STANDARD
TZNAME:CST
DTSTART:20241103T020000
TZOFFSETFROM:-0500
TZOFFSETTO:-0600
RDATE:20251102T020000
END:STANDARD
BEGIN:DAYLIGHT
TZNAME:CDT
DTSTART:20240310T020000
TZOFFSETFROM:-0600
TZOFFSETTO:-0500
RDATE:20250309T020000
RDATE:20260308T020000
END:DAYLIGHT
END:VTIMEZONE
BEGIN:VEVENT
UID:ec869f85-c7d1-464c-bcfa-6a43788e0dcc
DTSTAMP:20260421T191120Z
DESCRIPTION:
DTSTART;TZID=America/Chicago:20250110T090000
DTEND;TZID=America/Chicago:20250110T120000
LOCATION:Arisa Health \, 209 S Lockard \, Blytheville\, AR 72315 US
SUMMARY:Legal Aid Office Hours in Blytheville
END:VEVENT
END:VCALENDAR
