BEGIN:VCALENDAR
VERSION:2.0
PRODID:-//arlegalaid.org//NONSGML kigkonsult.se iCalcreator 2.30.10//
CALSCALE:GREGORIAN
METHOD:PUBLISH
UID:053c137c-9110-48e2-a95d-c711245d1b90
X-WR-CALDESC:
X-WR-RELCALID:f9bdf59ba3fa617325b1b3d9724bcf5c
X-WR-TIMEZONE:America/Chicago
BEGIN:VTIMEZONE
TZID:America/Chicago
BEGIN:STANDARD
TZNAME:CST
DTSTART:20241103T020000
TZOFFSETFROM:-0500
TZOFFSETTO:-0600
RDATE:20251102T020000
END:STANDARD
BEGIN:DAYLIGHT
TZNAME:CDT
DTSTART:20240310T020000
TZOFFSETFROM:-0600
TZOFFSETTO:-0500
RDATE:20250309T020000
RDATE:20260308T020000
END:DAYLIGHT
END:VTIMEZONE
BEGIN:VEVENT
UID:89590601-91c6-4dd0-828d-12f815859366
DTSTAMP:20260421T185400Z
DESCRIPTION:
DTSTART;TZID=America/Chicago:20250117T120000
DTEND;TZID=America/Chicago:20250117T130000
LOCATION:Must register to receive link to zoom meeting.
SUMMARY:Landlord Fair Housing Training
END:VEVENT
END:VCALENDAR
