BEGIN:VCALENDAR
VERSION:2.0
PRODID:-//arlegalaid.org//NONSGML kigkonsult.se iCalcreator 2.30.10//
CALSCALE:GREGORIAN
METHOD:PUBLISH
UID:8518eded-9790-4076-9c01-55a8f801ac61
X-WR-CALDESC:
X-WR-RELCALID:bece7dba45f0a8d38c701957508fe8ec
X-WR-TIMEZONE:America/Chicago
BEGIN:VTIMEZONE
TZID:America/Chicago
BEGIN:STANDARD
TZNAME:CST
DTSTART:20241103T020000
TZOFFSETFROM:-0500
TZOFFSETTO:-0600
RDATE:20251102T020000
END:STANDARD
BEGIN:DAYLIGHT
TZNAME:CDT
DTSTART:20240310T020000
TZOFFSETFROM:-0600
TZOFFSETTO:-0500
RDATE:20250309T020000
RDATE:20260308T020000
END:DAYLIGHT
END:VTIMEZONE
BEGIN:VEVENT
UID:199889dd-5537-456e-bae3-356952ada1e2
DTSTAMP:20260421T191828Z
DESCRIPTION:
DTSTART;TZID=America/Chicago:20250122T120000
DTEND;TZID=America/Chicago:20250122T130000
LOCATION:https://www.facebook.com/arlegalaid
SUMMARY:FB Live—Tax Filing Made Easy\, Your 2025 Checklist @arlegalaid
END:VEVENT
END:VCALENDAR
