BEGIN:VCALENDAR
VERSION:2.0
PRODID:-//arlegalaid.org//NONSGML kigkonsult.se iCalcreator 2.30.10//
CALSCALE:GREGORIAN
METHOD:PUBLISH
UID:e2d42d2f-e6a9-4fcc-93ea-601f2890cea3
X-WR-CALDESC:
X-WR-RELCALID:62aac8999ce417602886fc5c5cc4b18c
X-WR-TIMEZONE:America/Chicago
BEGIN:VTIMEZONE
TZID:America/Chicago
BEGIN:STANDARD
TZNAME:CST
DTSTART:20241103T020000
TZOFFSETFROM:-0500
TZOFFSETTO:-0600
RDATE:20251102T020000
END:STANDARD
BEGIN:DAYLIGHT
TZNAME:CDT
DTSTART:20240310T020000
TZOFFSETFROM:-0600
TZOFFSETTO:-0500
RDATE:20250309T020000
RDATE:20260308T020000
END:DAYLIGHT
END:VTIMEZONE
BEGIN:VEVENT
UID:aefa457a-c344-4eac-ad62-7cc6b20f9aee
DTSTAMP:20260421T191917Z
DESCRIPTION:
DTSTART;TZID=America/Chicago:20250125T090000
DTEND;TZID=America/Chicago:20250125T100000
LOCATION:Fayetteville Public Library Ziegler Meeting Room 401 W. Mountain S
 t. Fayetteville\, AR\, 401 W. Mountain St.\, Fayetteville\, AR 72701 US
SUMMARY:Naturalization Clinic: This clinic is to assist eligible candidates
  with completing their N-400 citizenship applications.
END:VEVENT
END:VCALENDAR
