BEGIN:VCALENDAR
VERSION:2.0
PRODID:-//arlegalaid.org//NONSGML kigkonsult.se iCalcreator 2.30.10//
CALSCALE:GREGORIAN
METHOD:PUBLISH
UID:023127ee-215a-4df6-a752-722fafb334ab
X-WR-CALDESC:
X-WR-RELCALID:02214680dc0a2f6b39c19230bb869955
X-WR-TIMEZONE:America/Chicago
BEGIN:VTIMEZONE
TZID:America/Chicago
BEGIN:STANDARD
TZNAME:CST
DTSTART:20241103T020000
TZOFFSETFROM:-0500
TZOFFSETTO:-0600
RDATE:20251102T020000
END:STANDARD
BEGIN:DAYLIGHT
TZNAME:CDT
DTSTART:20240310T020000
TZOFFSETFROM:-0600
TZOFFSETTO:-0500
RDATE:20250309T020000
RDATE:20260308T020000
END:DAYLIGHT
END:VTIMEZONE
BEGIN:VEVENT
UID:99a39e72-6c43-43db-967f-cac49b1e8402
DTSTAMP:20260421T172315Z
DESCRIPTION:
DTSTART;TZID=America/Chicago:20250225T100000
DTEND;TZID=America/Chicago:20250225T150000
LOCATION:Rogers Center for Non-Profits\, McAuley Hall \, 1200 W. Walnut St.
 \, Rogers\, AR 72758 US
SUMMARY:Housing Clinic in Rogers
END:VEVENT
END:VCALENDAR
