BEGIN:VCALENDAR
VERSION:2.0
PRODID:-//arlegalaid.org//NONSGML kigkonsult.se iCalcreator 2.30.10//
CALSCALE:GREGORIAN
METHOD:PUBLISH
UID:1dc8c680-bdfb-4e36-ae3b-f67e98fa38d8
X-WR-CALDESC:
X-WR-RELCALID:278c85eefca3d234eea3a10d58287dc6
X-WR-TIMEZONE:America/Chicago
BEGIN:VTIMEZONE
TZID:America/Chicago
BEGIN:STANDARD
TZNAME:CST
DTSTART:20241103T020000
TZOFFSETFROM:-0500
TZOFFSETTO:-0600
RDATE:20251102T020000
END:STANDARD
BEGIN:DAYLIGHT
TZNAME:CDT
DTSTART:20240310T020000
TZOFFSETFROM:-0600
TZOFFSETTO:-0500
RDATE:20250309T020000
RDATE:20260308T020000
END:DAYLIGHT
END:VTIMEZONE
BEGIN:VEVENT
UID:a5342cc8-6532-4789-9c1e-b8db0c15d244
DTSTAMP:20260421T173038Z
DESCRIPTION:
DTSTART;TZID=America/Chicago:20250227T100000
DTEND;TZID=America/Chicago:20250227T140000
LOCATION:Marianna Housing Authority\, 327 Ward Dr. \, Marianna \, AR 72360 
 US
SUMMARY:FREECivil Legal Clinic
END:VEVENT
END:VCALENDAR
