BEGIN:VCALENDAR
VERSION:2.0
PRODID:-//arlegalaid.org//NONSGML kigkonsult.se iCalcreator 2.30.10//
CALSCALE:GREGORIAN
METHOD:PUBLISH
UID:3ad8db31-3ff2-4c01-8b4f-5c7ebf7a3b46
X-WR-CALDESC:
X-WR-RELCALID:afdce9158ccb38084f2a83f74111615b
X-WR-TIMEZONE:America/Chicago
BEGIN:VTIMEZONE
TZID:America/Chicago
BEGIN:STANDARD
TZNAME:CST
DTSTART:20241103T020000
TZOFFSETFROM:-0500
TZOFFSETTO:-0600
RDATE:20251102T020000
END:STANDARD
BEGIN:DAYLIGHT
TZNAME:CDT
DTSTART:20250309T020000
TZOFFSETFROM:-0600
TZOFFSETTO:-0500
RDATE:20260308T020000
END:DAYLIGHT
END:VTIMEZONE
BEGIN:VEVENT
UID:dfc4f3a1-c3ec-41e1-98e3-677d336be605
DTSTAMP:20260423T092448Z
DESCRIPTION:
DTSTART;TZID=America/Chicago:20250325T100000
DTEND;TZID=America/Chicago:20250325T140000
LOCATION:Heber Springs Comm. Center\, 201 Bobbie Jean Lane\, 325 Magnolia S
 t.\, Herber Springs\, AR 72543 US
SUMMARY:FREE Comprehensive Clinic in Herber Springs
END:VEVENT
END:VCALENDAR
