BEGIN:VCALENDAR
VERSION:2.0
PRODID:-//arlegalaid.org//NONSGML kigkonsult.se iCalcreator 2.30.10//
CALSCALE:GREGORIAN
METHOD:PUBLISH
UID:75e3db53-a2c7-4982-a7bd-5fe285bdcf90
X-WR-CALDESC:
X-WR-RELCALID:293198ac91cc2274d5bf0e88e084e40d
X-WR-TIMEZONE:America/Chicago
BEGIN:VTIMEZONE
TZID:America/Chicago
BEGIN:STANDARD
TZNAME:CST
DTSTART:20241103T020000
TZOFFSETFROM:-0500
TZOFFSETTO:-0600
RDATE:20251102T020000
END:STANDARD
BEGIN:DAYLIGHT
TZNAME:CDT
DTSTART:20250309T020000
TZOFFSETFROM:-0600
TZOFFSETTO:-0500
RDATE:20260308T020000
END:DAYLIGHT
END:VTIMEZONE
BEGIN:VEVENT
UID:454d6ccb-dd70-462d-ad17-4618449b1840
DTSTAMP:20260421T154904Z
DESCRIPTION:
DTSTART;TZID=America/Chicago:20250325T100000
DTEND;TZID=America/Chicago:20250325T140000
LOCATION:West Memphis Public Library\, 500 E Broadway St\, West Memphis\, A
 R 72301 US
SUMMARY:FREE Comprehensive Clinic\, West Memphis Public Library
END:VEVENT
END:VCALENDAR
