BEGIN:VCALENDAR
VERSION:2.0
PRODID:-//arlegalaid.org//NONSGML kigkonsult.se iCalcreator 2.30.10//
CALSCALE:GREGORIAN
METHOD:PUBLISH
UID:8a48abe6-ec28-4411-b78a-89e00edfc118
X-WR-CALDESC:
X-WR-RELCALID:b17650b0d72d28011af3e33aeee1b3c3
X-WR-TIMEZONE:America/Chicago
BEGIN:VTIMEZONE
TZID:America/Chicago
BEGIN:STANDARD
TZNAME:CST
DTSTART:20241103T020000
TZOFFSETFROM:-0500
TZOFFSETTO:-0600
RDATE:20251102T020000
END:STANDARD
BEGIN:DAYLIGHT
TZNAME:CDT
DTSTART:20250309T020000
TZOFFSETFROM:-0600
TZOFFSETTO:-0500
RDATE:20260308T020000
END:DAYLIGHT
END:VTIMEZONE
BEGIN:VEVENT
UID:c5f59d16-d729-4961-8be3-57ad6d6d53c6
DTSTAMP:20260421T155734Z
DESCRIPTION:
DTSTART;TZID=America/Chicago:20250326T100000
DTEND;TZID=America/Chicago:20250326T140000
LOCATION:Phillips County Community College\, 1210 Rice Belt Avenue \, DeWit
 t\, AR 72042 US
SUMMARY:FREE Comprehensive Clinic\, DeWitt
END:VEVENT
END:VCALENDAR
