BEGIN:VCALENDAR
VERSION:2.0
PRODID:-//arlegalaid.org//NONSGML kigkonsult.se iCalcreator 2.30.10//
CALSCALE:GREGORIAN
METHOD:PUBLISH
UID:b15da58b-f5a5-4175-9a1e-a7551772ff18
X-WR-CALDESC:
X-WR-RELCALID:91037da61af737ebdf039a22289b75d2
X-WR-TIMEZONE:America/Chicago
BEGIN:VTIMEZONE
TZID:America/Chicago
BEGIN:STANDARD
TZNAME:CST
DTSTART:20241103T020000
TZOFFSETFROM:-0500
TZOFFSETTO:-0600
RDATE:20251102T020000
END:STANDARD
BEGIN:DAYLIGHT
TZNAME:CDT
DTSTART:20250309T020000
TZOFFSETFROM:-0600
TZOFFSETTO:-0500
RDATE:20260308T020000
END:DAYLIGHT
END:VTIMEZONE
BEGIN:VEVENT
UID:fa5e8c5c-b316-4397-99b2-4672c3a55fb4
DTSTAMP:20260421T155901Z
DESCRIPTION:
DTSTART;TZID=America/Chicago:20250326T100000
DTEND;TZID=America/Chicago:20250326T140000
LOCATION:Center at Mt. View\, 116 W. Main St.\, Mountain View\, AR 72560\, 
 Mountain View \, AR 72560 US
SUMMARY:FREE Comprehensive Clinic\, Mountain View
END:VEVENT
END:VCALENDAR
