BEGIN:VCALENDAR
VERSION:2.0
PRODID:-//arlegalaid.org//NONSGML kigkonsult.se iCalcreator 2.30.10//
CALSCALE:GREGORIAN
METHOD:PUBLISH
UID:3ca85bec-91db-4a5f-aa34-390d28874e2e
X-WR-CALDESC:
X-WR-RELCALID:fd20540e9a6bfb92d871a92cfd2d05eb
X-WR-TIMEZONE:America/Chicago
BEGIN:VTIMEZONE
TZID:America/Chicago
BEGIN:STANDARD
TZNAME:CST
DTSTART:20241103T020000
TZOFFSETFROM:-0500
TZOFFSETTO:-0600
RDATE:20251102T020000
END:STANDARD
BEGIN:DAYLIGHT
TZNAME:CDT
DTSTART:20250309T020000
TZOFFSETFROM:-0600
TZOFFSETTO:-0500
RDATE:20260308T020000
END:DAYLIGHT
END:VTIMEZONE
BEGIN:VEVENT
UID:2fcb2f7c-1e5e-4861-9c42-439d4fe3ab72
DTSTAMP:20260421T155426Z
DESCRIPTION:
DTSTART;TZID=America/Chicago:20250327T100000
DTEND;TZID=America/Chicago:20250327T140000
LOCATION:Clarendon Housing Authority 601 Jefferson St\, Clarendon\, AL 7202
 9 US
SUMMARY:FREE Comprehensive Clinic\, Clarendon Housing Authority
END:VEVENT
END:VCALENDAR
