BEGIN:VCALENDAR
VERSION:2.0
PRODID:-//arlegalaid.org//NONSGML kigkonsult.se iCalcreator 2.30.10//
CALSCALE:GREGORIAN
METHOD:PUBLISH
UID:b0fe0f89-16a8-4f0b-8044-3c037814b59d
X-WR-CALDESC:
X-WR-RELCALID:31fbfcf24155a75a9f4f3740f8827eb8
X-WR-TIMEZONE:America/Chicago
BEGIN:VTIMEZONE
TZID:America/Chicago
BEGIN:STANDARD
TZNAME:CST
DTSTART:20241103T020000
TZOFFSETFROM:-0500
TZOFFSETTO:-0600
RDATE:20251102T020000
RDATE:20261101T020000
END:STANDARD
BEGIN:DAYLIGHT
TZNAME:CDT
DTSTART:20250309T020000
TZOFFSETFROM:-0600
TZOFFSETTO:-0500
RDATE:20260308T020000
END:DAYLIGHT
END:VTIMEZONE
BEGIN:VEVENT
UID:03103fb2-9432-4585-ab60-ff3be6d97d10
DTSTAMP:20260421T113414Z
DESCRIPTION:
DTSTART;TZID=America/Chicago:20250610T100000
DTEND;TZID=America/Chicago:20250610T140000
LOCATION:St. Episcopal Church\, 224 N. East Ave\, Fayetteville\, AL 72701 U
 S
SUMMARY:FREE Record Sealing Clinic in Fayetteville
END:VEVENT
END:VCALENDAR
