BEGIN:VCALENDAR
VERSION:2.0
PRODID:-//arlegalaid.org//NONSGML kigkonsult.se iCalcreator 2.30.10//
CALSCALE:GREGORIAN
METHOD:PUBLISH
UID:22f8982b-d0e4-43d2-a21e-a58fd518c198
X-WR-CALDESC:Free legal clinic for low-income Arkansans.
X-WR-RELCALID:24fceebf3f027f2a4b0431cfd84fd332
X-WR-TIMEZONE:America/Chicago
BEGIN:VTIMEZONE
TZID:America/Chicago
BEGIN:STANDARD
TZNAME:CST
DTSTART:20241103T020000
TZOFFSETFROM:-0500
TZOFFSETTO:-0600
RDATE:20251102T020000
RDATE:20261101T020000
END:STANDARD
BEGIN:DAYLIGHT
TZNAME:CDT
DTSTART:20250309T020000
TZOFFSETFROM:-0600
TZOFFSETTO:-0500
RDATE:20260308T020000
END:DAYLIGHT
END:VTIMEZONE
BEGIN:VEVENT
UID:4410b141-b0fc-4844-a151-e8c3e69e04dd
DTSTAMP:20260421T093632Z
DESCRIPTION:Free legal clinic for low-income Arkansans.
DTSTART;TZID=America/Chicago:20250724T100000
DTEND;TZID=America/Chicago:20250724T140000
LOCATION:455 North Main Street\, Salem\, AR 72576 US
SUMMARY:Fulton County Legal Clinic - Salem
END:VEVENT
END:VCALENDAR
