BEGIN:VCALENDAR
VERSION:2.0
PRODID:-//arlegalaid.org//NONSGML kigkonsult.se iCalcreator 2.30.10//
CALSCALE:GREGORIAN
METHOD:PUBLISH
UID:f2bbb0a0-b8e7-4357-a894-757f6a1a3395
X-WR-CALDESC:Free legal clinic for low-income Arkansans.
X-WR-RELCALID:835c28d900dba7e7103327ff89c13411
X-WR-TIMEZONE:America/Chicago
BEGIN:VTIMEZONE
TZID:America/Chicago
BEGIN:STANDARD
TZNAME:CST
DTSTART:20241103T020000
TZOFFSETFROM:-0500
TZOFFSETTO:-0600
RDATE:20251102T020000
RDATE:20261101T020000
END:STANDARD
BEGIN:DAYLIGHT
TZNAME:CDT
DTSTART:20250309T020000
TZOFFSETFROM:-0600
TZOFFSETTO:-0500
RDATE:20260308T020000
END:DAYLIGHT
END:VTIMEZONE
BEGIN:VEVENT
UID:5ffe5e2b-808b-4d12-ad9e-ee79fdbecefe
DTSTAMP:20260423T092230Z
DESCRIPTION:Free legal clinic for low-income Arkansans.
DTSTART;TZID=America/Chicago:20250725T100000
DTEND;TZID=America/Chicago:20250725T140000
LOCATION:210 Woodbine Street\, Hot Springs\, AR 71901 US
SUMMARY:Garland County Legal Clinic - Hot Springs
END:VEVENT
END:VCALENDAR
