BEGIN:VCALENDAR
VERSION:2.0
PRODID:-//arlegalaid.org//NONSGML kigkonsult.se iCalcreator 2.30.10//
CALSCALE:GREGORIAN
METHOD:PUBLISH
UID:07fc2f1b-c966-4257-bbbf-a08c874b94c4
X-WR-CALDESC:Free legal advice and assistance for low-income clients at the
  Historic Washington County Courthouse.
X-WR-RELCALID:b462c94e479b80ad1285cdbebadb3bd6
X-WR-TIMEZONE:America/Chicago
BEGIN:VTIMEZONE
TZID:America/Chicago
BEGIN:STANDARD
TZNAME:CST
DTSTART:20241103T020000
TZOFFSETFROM:-0500
TZOFFSETTO:-0600
RDATE:20251102T020000
RDATE:20261101T020000
END:STANDARD
BEGIN:DAYLIGHT
TZNAME:CDT
DTSTART:20250309T020000
TZOFFSETFROM:-0600
TZOFFSETTO:-0500
RDATE:20260308T020000
END:DAYLIGHT
END:VTIMEZONE
BEGIN:VEVENT
UID:e4e7a409-5d16-42f3-a7fa-48ee6b6f54c6
DTSTAMP:20260421T082844Z
DESCRIPTION:Free legal advice and assistance for low-income clients at the 
 Historic Washington County Courthouse.
DTSTART;TZID=America/Chicago:20250812T100000
DTEND;TZID=America/Chicago:20250812T140000
LOCATION:4 South College\, Fayetteville\, AR 72701 US
SUMMARY:Washington County Help Desk
END:VEVENT
END:VCALENDAR
