BEGIN:VCALENDAR
VERSION:2.0
PRODID:-//arlegalaid.org//NONSGML kigkonsult.se iCalcreator 2.30.10//
CALSCALE:GREGORIAN
METHOD:PUBLISH
UID:308dbe40-b719-498a-80da-c9ffdca0d28f
X-WR-CALDESC:Free record sealing clinic for low-income Arkansans.
X-WR-RELCALID:3b6944c1a259fe011c88303aa18ac014
X-WR-TIMEZONE:America/Chicago
BEGIN:VTIMEZONE
TZID:America/Chicago
BEGIN:STANDARD
TZNAME:CST
DTSTART:20241103T020000
TZOFFSETFROM:-0500
TZOFFSETTO:-0600
RDATE:20251102T020000
RDATE:20261101T020000
END:STANDARD
BEGIN:DAYLIGHT
TZNAME:CDT
DTSTART:20250309T020000
TZOFFSETFROM:-0600
TZOFFSETTO:-0500
RDATE:20260308T020000
END:DAYLIGHT
END:VTIMEZONE
BEGIN:VEVENT
UID:b3277e06-f698-4179-bfc9-1a88cbfbe1e2
DTSTAMP:20260421T081851Z
DESCRIPTION:Free record sealing clinic for low-income Arkansans.
DTSTART;TZID=America/Chicago:20250814T120000
DTEND;TZID=America/Chicago:20250814T160000
LOCATION:Literacy Council of White County\, 1310 East Race Avenue\, Searcy\
 , AL 72143 US
SUMMARY:White County Criminal Record Sealing Clinic - Searcy
END:VEVENT
END:VCALENDAR
