BEGIN:VCALENDAR
VERSION:2.0
PRODID:-//arlegalaid.org//NONSGML kigkonsult.se iCalcreator 2.30.10//
CALSCALE:GREGORIAN
METHOD:PUBLISH
UID:2205b408-dc62-449f-909e-8811084d763f
X-WR-CALDESC:
X-WR-RELCALID:7ba88fed2d4ab51e11bd4d531bfd9de3
X-WR-TIMEZONE:America/Chicago
BEGIN:VTIMEZONE
TZID:America/Chicago
BEGIN:STANDARD
TZNAME:CST
DTSTART:20241103T020000
TZOFFSETFROM:-0500
TZOFFSETTO:-0600
RDATE:20251102T020000
RDATE:20261101T020000
END:STANDARD
BEGIN:DAYLIGHT
TZNAME:CDT
DTSTART:20250309T020000
TZOFFSETFROM:-0600
TZOFFSETTO:-0500
RDATE:20260308T020000
END:DAYLIGHT
END:VTIMEZONE
BEGIN:VEVENT
UID:6f8a05db-2f1b-4d86-a3ba-3df09176840e
DTSTAMP:20260423T083155Z
DESCRIPTION:
DTSTART;TZID=America/Chicago:20250815T090000
DTEND;TZID=America/Chicago:20250815T120000
LOCATION:1832 S. School Ave. Fayetteville\, AR 72701
SUMMARY:Help Desk: 7hills Homeless Shelter
END:VEVENT
END:VCALENDAR
