BEGIN:VCALENDAR
VERSION:2.0
PRODID:-//arlegalaid.org//NONSGML kigkonsult.se iCalcreator 2.30.10//
CALSCALE:GREGORIAN
METHOD:PUBLISH
UID:8cfa74cf-1d36-4640-84ed-6e242d613ed3
X-WR-CALDESC:Free legal clinic for low-income Arkansans needing help with f
 amily law\, estate planning\, consumer issues\, benefits\, education\, rec
 ord sealing\, and housing concerns.
X-WR-RELCALID:76f1277a1571a0dffec960e1d9e2350f
X-WR-TIMEZONE:America/Chicago
BEGIN:VTIMEZONE
TZID:America/Chicago
BEGIN:STANDARD
TZNAME:CST
DTSTART:20241103T020000
TZOFFSETFROM:-0500
TZOFFSETTO:-0600
RDATE:20251102T020000
RDATE:20261101T020000
END:STANDARD
BEGIN:DAYLIGHT
TZNAME:CDT
DTSTART:20250309T020000
TZOFFSETFROM:-0600
TZOFFSETTO:-0500
RDATE:20260308T020000
END:DAYLIGHT
END:VTIMEZONE
BEGIN:VEVENT
UID:a235710f-5dd8-4faa-82fb-1e70e7cec9ef
DTSTAMP:20260423T081927Z
DESCRIPTION:Free legal clinic for low-income Arkansans needing help with fa
 mily law\, estate planning\, consumer issues\, benefits\, education\, reco
 rd sealing\, and housing concerns.
DTSTART;TZID=America/Chicago:20250821T100000
DTEND;TZID=America/Chicago:20250821T140000
LOCATION:Washington Community Development Center\, 1900 Marietta Street\, T
 exarkana\, AR 71854 US
SUMMARY:Miller County Legal Clinic - Texarkana
END:VEVENT
END:VCALENDAR
