BEGIN:VCALENDAR
VERSION:2.0
PRODID:-//arlegalaid.org//NONSGML kigkonsult.se iCalcreator 2.30.10//
CALSCALE:GREGORIAN
METHOD:PUBLISH
UID:702afdfc-625c-470f-8f09-70b4b63c6308
X-WR-CALDESC:Senior tax benefits\nFiling requirements\nRetirement withdrawa
 ls & RMDs\nCommon tax forms & scams to avoid
X-WR-RELCALID:9986da8926095ff398ba6e26bea65050
X-WR-TIMEZONE:America/Chicago
BEGIN:VTIMEZONE
TZID:America/Chicago
BEGIN:STANDARD
TZNAME:CST
DTSTART:20241103T020000
TZOFFSETFROM:-0500
TZOFFSETTO:-0600
RDATE:20251102T020000
RDATE:20261101T020000
END:STANDARD
BEGIN:DAYLIGHT
TZNAME:CDT
DTSTART:20250309T020000
TZOFFSETFROM:-0600
TZOFFSETTO:-0500
RDATE:20260308T020000
END:DAYLIGHT
END:VTIMEZONE
BEGIN:VEVENT
UID:331321a4-0f50-42b2-a7e0-c9fd4d2354c3
DTSTAMP:20260423T081026Z
DESCRIPTION:Senior tax benefits\nFiling requirements\nRetirement withdrawal
 s & RMDs\nCommon tax forms & scams to avoid
DTSTART;TZID=America/Chicago:20250826T120000
DTEND;TZID=America/Chicago:20250826T130000
LOCATION:Legal Aid of Arkansas\, Springdale\, AR 72762 US
SUMMARY:Facebook Live Event - Income Tax Issues for Retirees and Seniors
END:VEVENT
END:VCALENDAR
