BEGIN:VCALENDAR
VERSION:2.0
PRODID:-//arlegalaid.org//NONSGML kigkonsult.se iCalcreator 2.30.10//
CALSCALE:GREGORIAN
METHOD:PUBLISH
UID:541300c8-0640-4f7f-81cb-546dabd1502b
X-WR-CALDESC:Free legal advice and assistance for low-income clients.
X-WR-RELCALID:02d32801446440de4f7875ff68a528fc
X-WR-TIMEZONE:America/Chicago
BEGIN:VTIMEZONE
TZID:America/Chicago
BEGIN:STANDARD
TZNAME:CST
DTSTART:20241103T020000
TZOFFSETFROM:-0500
TZOFFSETTO:-0600
RDATE:20251102T020000
RDATE:20261101T020000
END:STANDARD
BEGIN:DAYLIGHT
TZNAME:CDT
DTSTART:20250309T020000
TZOFFSETFROM:-0600
TZOFFSETTO:-0500
RDATE:20260308T020000
END:DAYLIGHT
END:VTIMEZONE
BEGIN:VEVENT
UID:512ca32f-460d-4326-9c23-9a4ee4fa9903
DTSTAMP:20260423T081535Z
DESCRIPTION:Free legal advice and assistance for low-income clients.
DTSTART;TZID=America/Chicago:20250826T100000
DTEND;TZID=America/Chicago:20250826T140000
LOCATION:4 South College\, Fayetteville\, AL 72701 US
SUMMARY:Washington County Help Desk
END:VEVENT
END:VCALENDAR
