BEGIN:VCALENDAR
VERSION:2.0
PRODID:-//arlegalaid.org//NONSGML kigkonsult.se iCalcreator 2.30.10//
CALSCALE:GREGORIAN
METHOD:PUBLISH
UID:0b900fe9-e680-4f04-ad4b-10f682c926b9
X-WR-CALDESC:
X-WR-RELCALID:bd9f2d2c0e624151b47296753fd5c329
X-WR-TIMEZONE:America/Chicago
BEGIN:VTIMEZONE
TZID:America/Chicago
BEGIN:STANDARD
TZNAME:CST
DTSTART:20251102T020000
TZOFFSETFROM:-0500
TZOFFSETTO:-0600
RDATE:20261101T020000
RDATE:20271107T020000
END:STANDARD
BEGIN:DAYLIGHT
TZNAME:CDT
DTSTART:20260308T020000
TZOFFSETFROM:-0600
TZOFFSETTO:-0500
RDATE:20270314T020000
RDATE:20280312T020000
END:DAYLIGHT
END:VTIMEZONE
BEGIN:VEVENT
UID:252737eb-443d-448e-b5e6-055dfaec5af6
DTSTAMP:20260423T093714Z
DESCRIPTION:
DTSTART;TZID=America/Chicago:20260911T090000
DTEND;TZID=America/Chicago:20260911T120000
LOCATION:1832 S. School Ave. Fayetteville\, AR 72701
SUMMARY:Help Desk: 7hills Homeless Shelter
END:VEVENT
END:VCALENDAR
