BEGIN:VCALENDAR
VERSION:2.0
PRODID:-//arlegalaid.org//NONSGML kigkonsult.se iCalcreator 2.30.10//
CALSCALE:GREGORIAN
METHOD:PUBLISH
UID:f8927191-420f-4adc-aa30-26746938141c
X-WR-CALDESC:
X-WR-RELCALID:de160674c8a9d1b0753c62742032bd19
X-WR-TIMEZONE:America/Chicago
BEGIN:VTIMEZONE
TZID:America/Chicago
BEGIN:STANDARD
TZNAME:CST
DTSTART:20261101T020000
TZOFFSETFROM:-0500
TZOFFSETTO:-0600
RDATE:20271107T020000
END:STANDARD
BEGIN:DAYLIGHT
TZNAME:CDT
DTSTART:20260308T020000
TZOFFSETFROM:-0600
TZOFFSETTO:-0500
RDATE:20270314T020000
RDATE:20280312T020000
END:DAYLIGHT
END:VTIMEZONE
BEGIN:VEVENT
UID:569fcf6c-6b00-4b62-8bea-18260bb79aa2
DTSTAMP:20260423T151621Z
DESCRIPTION:
DTSTART;TZID=America/Chicago:20270212T090000
DTEND;TZID=America/Chicago:20270212T120000
LOCATION:1832 S. School Ave. Fayetteville\, AR 72701
SUMMARY:Help Desk: 7hills Homeless Shelter
END:VEVENT
END:VCALENDAR
