BEGIN:VCALENDAR
VERSION:2.0
PRODID:-//arlegalaid.org//NONSGML kigkonsult.se iCalcreator 2.30.10//
CALSCALE:GREGORIAN
METHOD:PUBLISH
UID:40b7e911-9e90-4021-93fb-17d737a89e4d
X-WR-CALDESC:
X-WR-RELCALID:ce9cffc7989d12aaa19d6c642f601fc7
X-WR-TIMEZONE:America/Chicago
BEGIN:VTIMEZONE
TZID:America/Chicago
BEGIN:STANDARD
TZNAME:CST
DTSTART:20261101T020000
TZOFFSETFROM:-0500
TZOFFSETTO:-0600
RDATE:20271107T020000
END:STANDARD
BEGIN:DAYLIGHT
TZNAME:CDT
DTSTART:20270314T020000
TZOFFSETFROM:-0600
TZOFFSETTO:-0500
RDATE:20280312T020000
END:DAYLIGHT
END:VTIMEZONE
BEGIN:VEVENT
UID:93fda115-a386-4790-b743-8f78e9a1c3e3
DTSTAMP:20260423T175337Z
DESCRIPTION:
DTSTART;TZID=America/Chicago:20270409T090000
DTEND;TZID=America/Chicago:20270409T120000
LOCATION:1832 S. School Ave. Fayetteville\, AR 72701
SUMMARY:Help Desk: 7hills Homeless Shelter
END:VEVENT
END:VCALENDAR
